BEGIN:VCALENDAR
VERSION:2.0
PRODID:-//ChamberMaster//Event Calendar 2.0//EN
METHOD:PUBLISH
X-PUBLISHED-TTL:P3D
REFRESH-INTERVAL:P3D
CALSCALE:GREGORIAN
BEGIN:VEVENT
DTSTART:20130425T223000Z
DTEND:20130426T000000Z
X-MICROSOFT-CDO-ALLDAYEVENT:FALSE
SUMMARY:YP After Hours
DESCRIPTION:Young Professionals After Hours Social
X-ALT-DESC;FMTTYPE=text/html:Young Professionals After Hours Social
LOCATION:
UID:e.1434.1658
SEQUENCE:3
DTSTAMP:20260422T185930Z
URL:http://business.winonachamber.com/events/details/yp-after-hours-04-25-2013-1658
END:VEVENT

END:VCALENDAR
