BEGIN:VCALENDAR
VERSION:2.0
PRODID:-//ChamberMaster//Event Calendar 2.0//EN
METHOD:PUBLISH
X-PUBLISHED-TTL:P3D
REFRESH-INTERVAL:P3D
CALSCALE:GREGORIAN
BEGIN:VEVENT
DTSTART:20101025T220000Z
DTEND:20101026T000000Z
X-MICROSOFT-CDO-ALLDAYEVENT:FALSE
SUMMARY:YP-After Hours - october
DESCRIPTION:
X-ALT-DESC;FMTTYPE=text/html:
LOCATION:Perkins Restaurant
UID:e.1434.529
SEQUENCE:3
DTSTAMP:20260425T020247Z
URL:http://business.winonachamber.com/events/details/yp-after-hours-october-10-25-2010-529
END:VEVENT

END:VCALENDAR
