BEGIN:VCALENDAR
VERSION:2.0
PRODID:-//ChamberMaster//Event Calendar 2.0//EN
METHOD:PUBLISH
X-PUBLISHED-TTL:P3D
REFRESH-INTERVAL:P3D
CALSCALE:GREGORIAN
BEGIN:VEVENT
DTSTART:20100923T144500Z
DTEND:20100923T170000Z
X-MICROSOFT-CDO-ALLDAYEVENT:FALSE
SUMMARY:YP-Bowler Bob - Morning Session
DESCRIPTION:
X-ALT-DESC;FMTTYPE=text/html:
LOCATION:Westgate Bowl
UID:e.1434.509
SEQUENCE:3
DTSTAMP:20260425T033504Z
URL:http://business.winonachamber.com/events/details/yp-bowler-bob-morning-session-09-23-2010-509
END:VEVENT

END:VCALENDAR
