BEGIN:VCALENDAR
VERSION:2.0
PRODID:-//ChamberMaster//Event Calendar 2.0//EN
METHOD:PUBLISH
X-PUBLISHED-TTL:P3D
REFRESH-INTERVAL:P3D
CALSCALE:GREGORIAN
BEGIN:VEVENT
DTSTART:20110212T170000Z
DTEND:20110212T220000Z
X-MICROSOFT-CDO-ALLDAYEVENT:FALSE
SUMMARY:YP-Community Outreach-Chili Cookoff
DESCRIPTION:to benefit Ready\, Set\, School
X-ALT-DESC;FMTTYPE=text/html:to benefit Ready\, Set\, School
LOCATION:Garvin Heights Vineyards LLC
UID:e.1434.555
SEQUENCE:3
DTSTAMP:20260424T155102Z
URL:http://business.winonachamber.com/events/details/yp-community-outreach-chili-cookoff-02-12-2011-555
END:VEVENT

END:VCALENDAR
