BEGIN:VCALENDAR
VERSION:2.0
PRODID:-//ChamberMaster//Event Calendar 2.0//EN
METHOD:PUBLISH
X-PUBLISHED-TTL:P3D
REFRESH-INTERVAL:P3D
CALSCALE:GREGORIAN
BEGIN:VEVENT
DTSTART:20091218T233000Z
DTEND:20091219T023000Z
X-MICROSOFT-CDO-ALLDAYEVENT:FALSE
SUMMARY:YP-Holiday Party 2009
DESCRIPTION:
X-ALT-DESC;FMTTYPE=text/html:
LOCATION:The Green Mill
UID:e.1434.487
SEQUENCE:3
DTSTAMP:20260425T183014Z
URL:http://business.winonachamber.com/events/details/yp-holiday-party-2009-12-18-2009-487
END:VEVENT

END:VCALENDAR
