BEGIN:VCALENDAR
VERSION:2.0
PRODID:-//ChamberMaster//Event Calendar 2.0//EN
METHOD:PUBLISH
X-PUBLISHED-TTL:P3D
REFRESH-INTERVAL:P3D
CALSCALE:GREGORIAN
BEGIN:VEVENT
DTSTART:20101203T230000Z
DTEND:20101204T013000Z
X-MICROSOFT-CDO-ALLDAYEVENT:FALSE
SUMMARY:YP-Holiday Party 2010
DESCRIPTION:
X-ALT-DESC;FMTTYPE=text/html:
LOCATION:The Green Mill
UID:e.1434.539
SEQUENCE:3
DTSTAMP:20260424T224940Z
URL:http://business.winonachamber.com/events/details/yp-holiday-party-2010-12-03-2010-539
END:VEVENT

END:VCALENDAR
