BEGIN:VCALENDAR
VERSION:2.0
PRODID:-//ChamberMaster//Event Calendar 2.0//EN
METHOD:PUBLISH
X-PUBLISHED-TTL:P3D
REFRESH-INTERVAL:P3D
CALSCALE:GREGORIAN
BEGIN:VEVENT
DTSTART:20111203T000000Z
DTEND:20111203T020000Z
X-MICROSOFT-CDO-ALLDAYEVENT:FALSE
SUMMARY:YP - Holiday Party 2011
DESCRIPTION:
X-ALT-DESC;FMTTYPE=text/html:
LOCATION:Westgate Bowl
UID:e.1434.608
SEQUENCE:3
DTSTAMP:20260423T211755Z
URL:http://business.winonachamber.com/events/details/yp-holiday-party-2011-12-02-2011-608
END:VEVENT

END:VCALENDAR
