BEGIN:VCALENDAR
VERSION:2.0
PRODID:-//ChamberMaster//Event Calendar 2.0//EN
METHOD:PUBLISH
X-PUBLISHED-TTL:P3D
REFRESH-INTERVAL:P3D
CALSCALE:GREGORIAN
BEGIN:VEVENT
DTSTART:20121207T233000Z
DTEND:20121208T020000Z
X-MICROSOFT-CDO-ALLDAYEVENT:FALSE
SUMMARY:YP - Holiday Party 2012
DESCRIPTION:It's the most wonderful time of the year...\n\n	The Annual YP Holiday Party!\n\n	Join us for an evening of food\, friends and fun!\n\n	\n\n	FREE Admission for YPs ($5 door charge for non-YP guests)\n\n	FREE Appetizers (meals and drinks available on individual basis)\n\n	\n\n	Some exciting events are...\n\n	*Human Scavenger Hunt\n\n	*Holiday Creation Decorating Contest (think gingerbread man or house)\n\n	*Ugly Sweater Contest\n\n	*YP Perks Grand Prize Drawing - must be present to win
X-ALT-DESC;FMTTYPE=text/html:<p>\n	<span style="font-size:14px\;"><span style="font-family: courier new\;"><span style="color: rgb(255\, 0\, 0)\;">It&#39\;s the most wonderful time of the year...</span><br />\n	<span style="color: rgb(0\, 128\, 0)\;">The Annual YP Holiday Party!</span></span></span></p>\n<p>\n	<span style="font-size:14px\;"><span style="font-family: courier new\;"><span style="color: rgb(0\, 128\, 0)\;">Join us for an evening of food\, friends and fun!</span><br />\n	<br />\n	<span style="color: rgb(255\, 0\, 0)\;">FREE Admission for YPs ($5 door charge for non-YP guests)<br />\n	FREE Appetizers (meals and drinks available on individual basis)</span></span><br />\n	<br />\n	Some exciting events are...<br />\n	*Human Scavenger Hunt<br />\n	*Holiday Creation Decorating Contest (think gingerbread man or house)<br />\n	*Ugly Sweater Contest<br />\n	*YP Perks Grand Prize Drawing - must be present to win</span></p>\n
LOCATION:Jefferson's Pub & Grill - Upstairs 58 Center Street
UID:e.1434.1191
SEQUENCE:3
DTSTAMP:20260423T030800Z
URL:http://business.winonachamber.com/events/details/yp-holiday-party-2012-12-07-2012-1191
END:VEVENT

END:VCALENDAR
