BEGIN:VCALENDAR
VERSION:2.0
PRODID:-//ChamberMaster//Event Calendar 2.0//EN
METHOD:PUBLISH
X-PUBLISHED-TTL:P3D
REFRESH-INTERVAL:P3D
CALSCALE:GREGORIAN
BEGIN:VEVENT
DTSTART:20110601T163000Z
DTEND:20110601T180000Z
X-MICROSOFT-CDO-ALLDAYEVENT:FALSE
SUMMARY:YP-Influential Conversations
DESCRIPTION:Cost is $15 for YP's\, $20 for all other guests.  \n\nA three-course lunch will be provided.\n\nRegistration table opens at 11:30.  Event begins at noon
X-ALT-DESC;FMTTYPE=text/html:Cost is $15 for YP's\, $20 for all other guests.  \n\nA three-course lunch will be provided.\n\nRegistration table opens at 11:30.  Event begins at noon\n\n \n\n
LOCATION:Jefferson Pub & Grill
UID:e.1434.587
SEQUENCE:3
DTSTAMP:20260424T094854Z
URL:http://business.winonachamber.com/events/details/yp-influential-conversations-06-01-2011-587
END:VEVENT

END:VCALENDAR
