BEGIN:VCALENDAR
VERSION:2.0
PRODID:-//ChamberMaster//Event Calendar 2.0//EN
METHOD:PUBLISH
X-PUBLISHED-TTL:P3D
REFRESH-INTERVAL:P3D
CALSCALE:GREGORIAN
BEGIN:VEVENT
DTSTART:20120913T170000Z
DTEND:20120913T180000Z
X-MICROSOFT-CDO-ALLDAYEVENT:FALSE
SUMMARY:YP Professional Development - Finding Financial Stability
DESCRIPTION:This professional development will be presented by fellow YP members - David Bittner\, Thrivent Financial and Doug Kelley\, Walgreens\n\n \n\nPresentation Objectives:\n\n \n\n- Understand the types of debt and credit\n\n- Learn about savings and retirement options\; what questions you should be asking about each option to determine what is best for you.\n\n- Learn about Profit Sharing\; how to invest and the benefits of doing so. \n\n \n\nThis presentation is designed for a Young Professional who wants to have a greater understanding for managing debt and understanding the financial options and support available in the Winona community. This presentation will provide an introduction to the topics of debt\, credit\, retirement and investment options.
X-ALT-DESC;FMTTYPE=text/html:<span style="font-size:12px\;"><span style="font-family: arial\;"><span style="color: rgb(51\, 51\, 51)\;">This professional development will be presented by fellow YP members - David Bittner\, Thrivent Financial and Doug Kelley\, Walgreens</span><br />\n&nbsp\;<br />\n<span style="color: black\;">Presentation Objectives:</span><br />\n&nbsp\;<br />\n<span style="color: black\;">- Understand the types of debt and credit</span><br />\n<span style="color: black\;">- Learn about savings and retirement options\; what questions you should be asking about each option to determine what is best for you.</span><br />\n<span style="color: black\;">- Learn about Profit Sharing\; how to invest and the benefits of doing so.&nbsp\;</span><br />\n&nbsp\;<br />\n<span style="color: black\;">This presentation is designed for a Young Professional who wants to have a greater understanding for managing debt and understanding the financial options and support available in the Winona community. This presentation will provide an introduction to the topics of debt\, credit\, retirement and investment options.&nbsp\;<br />\n&nbsp\; </span></span></span>
LOCATION:Chamber of Commerce Conference Room 902 East Second Street Suite 120
UID:e.1434.649
SEQUENCE:3
DTSTAMP:20260423T080527Z
URL:http://business.winonachamber.com/events/details/yp-professional-development-finding-financial-stability-09-13-2012-649
END:VEVENT

END:VCALENDAR
