BEGIN:VCALENDAR
VERSION:2.0
PRODID:-//ChamberMaster//Event Calendar 2.0//EN
METHOD:PUBLISH
X-PUBLISHED-TTL:P3D
REFRESH-INTERVAL:P3D
CALSCALE:GREGORIAN
BEGIN:VEVENT
DTSTART:20130924T170000Z
DTEND:20130924T180000Z
X-MICROSOFT-CDO-ALLDAYEVENT:FALSE
SUMMARY:YP Professional Development - How to Present Your Ideas Creatively and with Impact
DESCRIPTION:Facilitated by Ashley Gorka\, TRW Automotive\n\n	\n\n	Why do some ideas thrive while others die? How do we improve the chances of ideas sticking? Ashley will discuss the anatomy of ideas that stick and explain ways to make ideas stickier\, such as applying the "human scale principle\," using the "Velcro Theory of Memory\," and creating "curiosity gaps."
X-ALT-DESC;FMTTYPE=text/html:<h3 style="color: blue">\n	<span style="font-family: tahoma"><span style="color: #000000">Facilitated by Ashley Gorka\, TRW Automotive<br />\n	<br />\n	Why do some ideas thrive while others die? How do we improve the chances of ideas sticking? Ashley will discuss the anatomy of ideas that stick and explain ways to make ideas stickier\, such as applying the &quot\;human scale principle\,&quot\; using the &quot\;Velcro Theory of Memory\,&quot\; and creating &quot\;curiosity gaps.&quot\;</span></span></h3>\n
LOCATION:Winona Area Chamber of Commerce 902 East Second Street\, Suite 120
UID:e.1434.2109
SEQUENCE:3
DTSTAMP:20260420T112411Z
URL:http://business.winonachamber.com/events/details/yp-professional-development-how-to-present-your-ideas-creatively-and-with-impact-09-24-2013-2109
END:VEVENT

END:VCALENDAR
