BEGIN:VCALENDAR
VERSION:2.0
PRODID:-//ChamberMaster//Event Calendar 2.0//EN
METHOD:PUBLISH
X-PUBLISHED-TTL:P3D
REFRESH-INTERVAL:P3D
CALSCALE:GREGORIAN
BEGIN:VEVENT
DTSTART:20110304T053000Z
DTEND:20110303T190000Z
X-MICROSOFT-CDO-ALLDAYEVENT:FALSE
SUMMARY:YP-Speed Networking Lunch
DESCRIPTION:Cost is $15 for YP's\, $20 for all other guests.  \n\nA three-course lunch will be provided.\n\nRegistration table opens at 11:30.  Event begins at noon
X-ALT-DESC;FMTTYPE=text/html:Cost is $15 for YP's\, $20 for all other guests.  \n\nA three-course lunch will be provided.\n\nRegistration table opens at 11:30.  Event begins at noon\n\n \n\n
LOCATION:The Green Mill
UID:e.1434.566
SEQUENCE:3
DTSTAMP:20260424T134414Z
URL:http://business.winonachamber.com/events/details/yp-speed-networking-lunch-03-03-2011-566
END:VEVENT

END:VCALENDAR
