BEGIN:VCALENDAR
VERSION:2.0
PRODID:-//ChamberMaster//Event Calendar 2.0//EN
METHOD:PUBLISH
X-PUBLISHED-TTL:P3D
REFRESH-INTERVAL:P3D
CALSCALE:GREGORIAN
BEGIN:VEVENT
DTSTART:20100318T170000Z
DTEND:20100318T180000Z
X-MICROSOFT-CDO-ALLDAYEVENT:FALSE
SUMMARY:YP-Speed Networking Luncheon
DESCRIPTION:
X-ALT-DESC;FMTTYPE=text/html:
LOCATION:Jefferson Pub & Grill
UID:e.1434.494
SEQUENCE:3
DTSTAMP:20260425T132955Z
URL:http://business.winonachamber.com/events/details/yp-speed-networking-luncheon-03-18-2010-494
END:VEVENT

END:VCALENDAR
