BEGIN:VCALENDAR
VERSION:2.0
PRODID:-//ChamberMaster//Event Calendar 2.0//EN
METHOD:PUBLISH
X-PUBLISHED-TTL:P3D
REFRESH-INTERVAL:P3D
CALSCALE:GREGORIAN
BEGIN:VEVENT
DTSTART:20110929T230000Z
DTEND:20110930T013000Z
X-MICROSOFT-CDO-ALLDAYEVENT:FALSE
SUMMARY:YP-Training - Guess Who's Coming to Dinner
DESCRIPTION:
X-ALT-DESC;FMTTYPE=text/html:
LOCATION:Jefferson Pub & Grill
UID:e.1434.596
SEQUENCE:3
DTSTAMP:20260424T015919Z
URL:http://business.winonachamber.com/events/details/yp-training-guess-who-s-coming-to-dinner-09-29-2011-596
END:VEVENT

END:VCALENDAR
