BEGIN:VCALENDAR
VERSION:2.0
PRODID:-//ChamberMaster//Event Calendar 2.0//EN
METHOD:PUBLISH
X-PUBLISHED-TTL:P3D
REFRESH-INTERVAL:P3D
CALSCALE:GREGORIAN
BEGIN:VEVENT
DTSTART:20100506T170000Z
DTEND:20100506T180000Z
X-MICROSOFT-CDO-ALLDAYEVENT:FALSE
SUMMARY:YP-Whats HOT in Winona
DESCRIPTION:
X-ALT-DESC;FMTTYPE=text/html:
LOCATION:Bub's Brewery
UID:e.1434.500
SEQUENCE:3
DTSTAMP:20260425T113914Z
URL:http://business.winonachamber.com/events/details/yp-whats-hot-in-winona-05-06-2010-500
END:VEVENT

END:VCALENDAR
